BEGIN:VCALENDAR
VERSION:2.0
PRODID:-//MN Mom Community - ECPv6.15.20//NONSGML v1.0//EN
CALSCALE:GREGORIAN
METHOD:PUBLISH
X-ORIGINAL-URL:https://mnmomcommunity.com
X-WR-CALDESC:Events for MN Mom Community
REFRESH-INTERVAL;VALUE=DURATION:PT1H
X-Robots-Tag:noindex
X-PUBLISHED-TTL:PT1H
BEGIN:VTIMEZONE
TZID:America/Chicago
BEGIN:DAYLIGHT
TZOFFSETFROM:-0600
TZOFFSETTO:-0500
TZNAME:CDT
DTSTART:20240310T080000
END:DAYLIGHT
BEGIN:STANDARD
TZOFFSETFROM:-0500
TZOFFSETTO:-0600
TZNAME:CST
DTSTART:20241103T070000
END:STANDARD
BEGIN:DAYLIGHT
TZOFFSETFROM:-0600
TZOFFSETTO:-0500
TZNAME:CDT
DTSTART:20250309T080000
END:DAYLIGHT
BEGIN:STANDARD
TZOFFSETFROM:-0500
TZOFFSETTO:-0600
TZNAME:CST
DTSTART:20251102T070000
END:STANDARD
BEGIN:DAYLIGHT
TZOFFSETFROM:-0600
TZOFFSETTO:-0500
TZNAME:CDT
DTSTART:20260308T080000
END:DAYLIGHT
BEGIN:STANDARD
TZOFFSETFROM:-0500
TZOFFSETTO:-0600
TZNAME:CST
DTSTART:20261101T070000
END:STANDARD
END:VTIMEZONE
BEGIN:VEVENT
DTSTART;TZID=America/Chicago:20251129T093000
DTEND;TZID=America/Chicago:20251129T160000
DTSTAMP:20260420T130037
CREATED:20251124T172007Z
LAST-MODIFIED:20251124T172007Z
UID:1094-1764408600-1764432000@mnmomcommunity.com
SUMMARY:Pictures with Santa and Mrs. Claus
DESCRIPTION:Pictures with Santa and Mrs. Claus  Bring your camera for multiple scenes for photos\, fun activities\, first come first serve
URL:https://mnmomcommunity.com/event/pictures-with-santa-and-mrs-claus/
LOCATION:Flooring Avenue\, 21200 Rogers Dr\, Rogers\, 55374\, United States
END:VEVENT
END:VCALENDAR